BEGIN:VCALENDAR
VERSION:2.0
PRODID:-//The Waywiser Press - ECPv6.15.20//NONSGML v1.0//EN
CALSCALE:GREGORIAN
METHOD:PUBLISH
X-ORIGINAL-URL:https://waywiser-press.com
X-WR-CALDESC:Events for The Waywiser Press
REFRESH-INTERVAL;VALUE=DURATION:PT1H
X-Robots-Tag:noindex
X-PUBLISHED-TTL:PT1H
BEGIN:VTIMEZONE
TZID:Europe/London
BEGIN:DAYLIGHT
TZOFFSETFROM:+0000
TZOFFSETTO:+0100
TZNAME:BST
DTSTART:20170326T010000
END:DAYLIGHT
BEGIN:STANDARD
TZOFFSETFROM:+0100
TZOFFSETTO:+0000
TZNAME:GMT
DTSTART:20171029T010000
END:STANDARD
BEGIN:DAYLIGHT
TZOFFSETFROM:+0000
TZOFFSETTO:+0100
TZNAME:BST
DTSTART:20180325T010000
END:DAYLIGHT
BEGIN:STANDARD
TZOFFSETFROM:+0100
TZOFFSETTO:+0000
TZNAME:GMT
DTSTART:20181028T010000
END:STANDARD
BEGIN:DAYLIGHT
TZOFFSETFROM:+0000
TZOFFSETTO:+0100
TZNAME:BST
DTSTART:20190331T010000
END:DAYLIGHT
BEGIN:STANDARD
TZOFFSETFROM:+0100
TZOFFSETTO:+0000
TZNAME:GMT
DTSTART:20191027T010000
END:STANDARD
BEGIN:DAYLIGHT
TZOFFSETFROM:+0000
TZOFFSETTO:+0100
TZNAME:BST
DTSTART:20200329T010000
END:DAYLIGHT
BEGIN:STANDARD
TZOFFSETFROM:+0100
TZOFFSETTO:+0000
TZNAME:GMT
DTSTART:20201025T010000
END:STANDARD
BEGIN:DAYLIGHT
TZOFFSETFROM:+0000
TZOFFSETTO:+0100
TZNAME:BST
DTSTART:20210328T010000
END:DAYLIGHT
BEGIN:STANDARD
TZOFFSETFROM:+0100
TZOFFSETTO:+0000
TZNAME:GMT
DTSTART:20211031T010000
END:STANDARD
BEGIN:DAYLIGHT
TZOFFSETFROM:+0000
TZOFFSETTO:+0100
TZNAME:BST
DTSTART:20220327T010000
END:DAYLIGHT
BEGIN:STANDARD
TZOFFSETFROM:+0100
TZOFFSETTO:+0000
TZNAME:GMT
DTSTART:20221030T010000
END:STANDARD
BEGIN:DAYLIGHT
TZOFFSETFROM:+0000
TZOFFSETTO:+0100
TZNAME:BST
DTSTART:20230326T010000
END:DAYLIGHT
BEGIN:STANDARD
TZOFFSETFROM:+0100
TZOFFSETTO:+0000
TZNAME:GMT
DTSTART:20231029T010000
END:STANDARD
END:VTIMEZONE
BEGIN:VTIMEZONE
TZID:America/New_York
BEGIN:DAYLIGHT
TZOFFSETFROM:-0500
TZOFFSETTO:-0400
TZNAME:EDT
DTSTART:20150308T070000
END:DAYLIGHT
BEGIN:STANDARD
TZOFFSETFROM:-0400
TZOFFSETTO:-0500
TZNAME:EST
DTSTART:20151101T060000
END:STANDARD
BEGIN:DAYLIGHT
TZOFFSETFROM:-0500
TZOFFSETTO:-0400
TZNAME:EDT
DTSTART:20160313T070000
END:DAYLIGHT
BEGIN:STANDARD
TZOFFSETFROM:-0400
TZOFFSETTO:-0500
TZNAME:EST
DTSTART:20161106T060000
END:STANDARD
BEGIN:DAYLIGHT
TZOFFSETFROM:-0500
TZOFFSETTO:-0400
TZNAME:EDT
DTSTART:20170312T070000
END:DAYLIGHT
BEGIN:STANDARD
TZOFFSETFROM:-0400
TZOFFSETTO:-0500
TZNAME:EST
DTSTART:20171105T060000
END:STANDARD
BEGIN:DAYLIGHT
TZOFFSETFROM:-0500
TZOFFSETTO:-0400
TZNAME:EDT
DTSTART:20180311T070000
END:DAYLIGHT
BEGIN:STANDARD
TZOFFSETFROM:-0400
TZOFFSETTO:-0500
TZNAME:EST
DTSTART:20181104T060000
END:STANDARD
BEGIN:DAYLIGHT
TZOFFSETFROM:-0500
TZOFFSETTO:-0400
TZNAME:EDT
DTSTART:20190310T070000
END:DAYLIGHT
BEGIN:STANDARD
TZOFFSETFROM:-0400
TZOFFSETTO:-0500
TZNAME:EST
DTSTART:20191103T060000
END:STANDARD
BEGIN:DAYLIGHT
TZOFFSETFROM:-0500
TZOFFSETTO:-0400
TZNAME:EDT
DTSTART:20200308T070000
END:DAYLIGHT
BEGIN:STANDARD
TZOFFSETFROM:-0400
TZOFFSETTO:-0500
TZNAME:EST
DTSTART:20201101T060000
END:STANDARD
BEGIN:DAYLIGHT
TZOFFSETFROM:-0500
TZOFFSETTO:-0400
TZNAME:EDT
DTSTART:20210314T070000
END:DAYLIGHT
BEGIN:STANDARD
TZOFFSETFROM:-0400
TZOFFSETTO:-0500
TZNAME:EST
DTSTART:20211107T060000
END:STANDARD
BEGIN:DAYLIGHT
TZOFFSETFROM:-0500
TZOFFSETTO:-0400
TZNAME:EDT
DTSTART:20220313T070000
END:DAYLIGHT
BEGIN:STANDARD
TZOFFSETFROM:-0400
TZOFFSETTO:-0500
TZNAME:EST
DTSTART:20221106T060000
END:STANDARD
BEGIN:DAYLIGHT
TZOFFSETFROM:-0500
TZOFFSETTO:-0400
TZNAME:EDT
DTSTART:20230312T070000
END:DAYLIGHT
BEGIN:STANDARD
TZOFFSETFROM:-0400
TZOFFSETTO:-0500
TZNAME:EST
DTSTART:20231105T060000
END:STANDARD
END:VTIMEZONE
BEGIN:VTIMEZONE
TZID:America/Los_Angeles
BEGIN:DAYLIGHT
TZOFFSETFROM:-0800
TZOFFSETTO:-0700
TZNAME:PDT
DTSTART:20200308T100000
END:DAYLIGHT
BEGIN:STANDARD
TZOFFSETFROM:-0700
TZOFFSETTO:-0800
TZNAME:PST
DTSTART:20201101T090000
END:STANDARD
BEGIN:DAYLIGHT
TZOFFSETFROM:-0800
TZOFFSETTO:-0700
TZNAME:PDT
DTSTART:20210314T100000
END:DAYLIGHT
BEGIN:STANDARD
TZOFFSETFROM:-0700
TZOFFSETTO:-0800
TZNAME:PST
DTSTART:20211107T090000
END:STANDARD
BEGIN:DAYLIGHT
TZOFFSETFROM:-0800
TZOFFSETTO:-0700
TZNAME:PDT
DTSTART:20220313T100000
END:DAYLIGHT
BEGIN:STANDARD
TZOFFSETFROM:-0700
TZOFFSETTO:-0800
TZNAME:PST
DTSTART:20221106T090000
END:STANDARD
END:VTIMEZONE
BEGIN:VEVENT
DTSTART;TZID=Europe/London:20220522T150000
DTEND;TZID=Europe/London:20220522T160000
DTSTAMP:20260423T075418
CREATED:20220512T134315Z
LAST-MODIFIED:20220512T134315Z
UID:4663-1653231600-1653235200@waywiser-press.com
SUMMARY:Clive Watkins and Chris Preddle will read from their latest collections
DESCRIPTION:You are cordially invited to a book launch and  poetry reading by Clive Watkins and Chris Preddle. Clive will be reading from his latest collection\, Pedic’s Dream (‘… maturity of technique and sensibility … a distinctive power’)\, and Chris will be reading from his latest\, The May Figures (‘ … lyrical\, diverse in form … ingenious … alliterative\, witty’). Entry is free\, and drinks and nibbles will be available.
URL:https://waywiser-press.com/event/clive-watkins-and-chris-preddle-will-read-from-their-latest-collections/
LOCATION:Choppards Mission\, Cote Lane\, Holmfirth\, Yorkshire\, HD9 2RP\, United Kingdom
CATEGORIES:Book Launch,Readings
END:VEVENT
BEGIN:VEVENT
DTSTART;TZID=America/New_York:20220515T190000
DTEND;TZID=America/New_York:20220515T210000
DTSTAMP:20260423T075418
CREATED:20220511T110544Z
LAST-MODIFIED:20220512T134334Z
UID:4654-1652641200-1652648400@waywiser-press.com
SUMMARY:Launch Party for Danielle Blau's Anthony Hecht Poetry Prize-winning collection\, peep
DESCRIPTION:You are cordially invited to the launch party for Danielle Blau’s peep\, which won the sixteenth annual Anthony Hecht Poetry Prize\, and was awarded to her by the Pulitzer Prize-winning poet\, Vijay Seshadri. Danielle and Vijay will both read\, as will Matthew Rohrer\, Julia Guez\, Maria Wojciechowski\, Rohan Padhye\, and Kenice Mobley. Full details of this event\, including information about the other contributors\, can be found by clicking on the Hecht Prize party link. \nPlease note: proof of vaccination & masks will be required.
URL:https://waywiser-press.com/event/launch-party-for-danielle-blaus-anthony-hecht-poetry-prize-winning-collection-peep/
LOCATION:Footlight Underground at the Windjammer\, 552 Grandview Avenue\, Ridgewood\, Queens\, 11385
CATEGORIES:Book Launch,Readings
ORGANIZER;CN="https%3A//www.footlightunderground.com/":MAILTO:footlightmarketing@gmail.com
END:VEVENT
BEGIN:VEVENT
DTSTART;TZID=America/Los_Angeles:20210418T140000
DTEND;TZID=America/Los_Angeles:20210418T150000
DTSTAMP:20260423T075418
CREATED:20210411T134124Z
LAST-MODIFIED:20210411T134124Z
UID:4333-1618754400-1618758000@waywiser-press.com
SUMMARY:15th Anthony Hecht Poetry Prize Reading (the Hammer Museum\, Los Angeles)
DESCRIPTION:James Davis\, winner of the 15th Anthony Hecht Poetry Prize will read from his winning collection\, Club Q. He will be introduced by that year’s judge\, Edward Hirsch\, who will go on to read himself.The event will be introduced by Stephen Yenser\, and Joseph Harrison (Waywiser’s Senior American Editor) and Philip Hoy (Waywiser’s founder and Editor-in-Chief) will say something about the press and the prize’s distinguished history. Do join us for the event\, which will be broadcast on the Hammer Museum’s website at 2pm PDT and 5pm EST on Sunday April 18th. Here is a link. Clicking on it now will allow you to ask for a reminder of the event on the day:  \nhttps://hammer.ucla.edu/programs-events/2021/ed-hirsch-james-davis-anthony-hecht-poetry-prize-reading
URL:https://waywiser-press.com/event/15th-anthony-hecht-poetry-prize-reading-the-hammer-museum-los-angeles/
LOCATION:Yorkshire
CATEGORIES:Book Launch,Readings
ORGANIZER;CN="Claudia Bestor%2C Head of Public Programs":MAILTO:cbestor@hammer.edu
END:VEVENT
BEGIN:VEVENT
DTSTART;TZID=America/New_York:20190404T073000
DTEND;TZID=America/New_York:20190404T203000
DTSTAMP:20260423T075418
CREATED:20190329T112607Z
LAST-MODIFIED:20190329T112607Z
UID:2767-1554363000-1554409800@waywiser-press.com
SUMMARY:Audrey Bohanan will read with Joseph Harrison and Dora Malech
DESCRIPTION:Please join Waywiser Press for the launch of Audrey Bohanan’s new poetry collection\, Any Keep or Contour\, a finalist for the Anthony Hecht Poetry Prize. Joseph Harrison and Dora Malech will read with Ms. Bohanan.
URL:https://waywiser-press.com/event/audrey-bohanan-will-read-with-joseph-harrison-and-dora-malech/
LOCATION:Bird in Hand\, 11 E. 33rd Street\, Baltimore\, MD\, 21218\, United States
CATEGORIES:Book Launch,Readings
ORGANIZER;CN="The Waywiser Press":MAILTO:info@waywiser-press.com
END:VEVENT
BEGIN:VEVENT
DTSTART;TZID=Europe/London:20181105T193000
DTEND;TZID=Europe/London:20181105T213000
DTSTAMP:20260423T075418
CREATED:20180921T110026Z
LAST-MODIFIED:20180921T110026Z
UID:2571-1541446200-1541453400@waywiser-press.com
SUMMARY:US launch of Christopher Cessac's The Youngest Ocean at the Folger Shakespeare Library\, Washington\, D.C.
DESCRIPTION:Winner of the 13th Anthony Hecht Poetry Prize\, Christopher Cessac\, will be introduced by the judge who awarded the prize\, Sir Andrew Motion\, and the two poets will take it in turns to read from their work at the Folger Shakespeare Library in Washington\, D.C. The event will be introduced by Waywiser’s Editor in Chief\, Philip Hoy.
URL:https://waywiser-press.com/event/us-launch-of-christopher-cessacs-the-youngest-ocean-at-the-folger-shakespeare-library-washington-d-c/
LOCATION:Folger Shakespeare Library\, 201 East Capitol St. SE\, Washington\, DC\, 200003\, United States
CATEGORIES:Book Launch,Publications,Readings
END:VEVENT
BEGIN:VEVENT
DTSTART;TZID=America/New_York:20161024T193000
DTEND;TZID=America/New_York:20161024T213000
DTSTAMP:20260423T075418
CREATED:20160802T132946Z
LAST-MODIFIED:20160813T184129Z
UID:1610-1477337400-1477344600@waywiser-press.com
SUMMARY:US Launch of Austin Allen's Pleasures of the Game at the Folger Shakespeare Library\, Washington\, DC
DESCRIPTION:Winner of the 11th Anthony Hecht Poetry Prize\, Austin Allen will be introduced by the judge who awarded the prize\, Eavan Boland\, and the two poets will take it in turns to read from their work at the Folger Shakespeare Library in Washington\, DC. The event will be introduced by Waywiser’s Editor-in-Chief\, Philip Hoy.\nPlease click link for further information and to purchase tickets.
URL:https://waywiser-press.com/event/us-launch-of-austin-allens-pleasures-of-the-game/
LOCATION:Folger Shakespeare Library\, 201 East Capitol St. SE\, Washington\, DC\, 200003\, United States
CATEGORIES:Book Launch,Readings
END:VEVENT
END:VCALENDAR