BEGIN:VCALENDAR
VERSION:2.0
PRODID:-//The Waywiser Press - ECPv6.15.20//NONSGML v1.0//EN
CALSCALE:GREGORIAN
METHOD:PUBLISH
X-ORIGINAL-URL:https://waywiser-press.com
X-WR-CALDESC:Events for The Waywiser Press
REFRESH-INTERVAL;VALUE=DURATION:PT1H
X-Robots-Tag:noindex
X-PUBLISHED-TTL:PT1H
BEGIN:VTIMEZONE
TZID:Europe/London
BEGIN:DAYLIGHT
TZOFFSETFROM:+0000
TZOFFSETTO:+0100
TZNAME:BST
DTSTART:20160327T010000
END:DAYLIGHT
BEGIN:STANDARD
TZOFFSETFROM:+0100
TZOFFSETTO:+0000
TZNAME:GMT
DTSTART:20161030T010000
END:STANDARD
BEGIN:DAYLIGHT
TZOFFSETFROM:+0000
TZOFFSETTO:+0100
TZNAME:BST
DTSTART:20170326T010000
END:DAYLIGHT
BEGIN:STANDARD
TZOFFSETFROM:+0100
TZOFFSETTO:+0000
TZNAME:GMT
DTSTART:20171029T010000
END:STANDARD
BEGIN:DAYLIGHT
TZOFFSETFROM:+0000
TZOFFSETTO:+0100
TZNAME:BST
DTSTART:20180325T010000
END:DAYLIGHT
BEGIN:STANDARD
TZOFFSETFROM:+0100
TZOFFSETTO:+0000
TZNAME:GMT
DTSTART:20181028T010000
END:STANDARD
BEGIN:DAYLIGHT
TZOFFSETFROM:+0000
TZOFFSETTO:+0100
TZNAME:BST
DTSTART:20190331T010000
END:DAYLIGHT
BEGIN:STANDARD
TZOFFSETFROM:+0100
TZOFFSETTO:+0000
TZNAME:GMT
DTSTART:20191027T010000
END:STANDARD
END:VTIMEZONE
BEGIN:VTIMEZONE
TZID:UTC
BEGIN:STANDARD
TZOFFSETFROM:+0000
TZOFFSETTO:+0000
TZNAME:UTC
DTSTART:20150101T000000
END:STANDARD
END:VTIMEZONE
BEGIN:VEVENT
DTSTART;TZID=Europe/London:20181105T193000
DTEND;TZID=Europe/London:20181105T213000
DTSTAMP:20260423T153154
CREATED:20180921T110026Z
LAST-MODIFIED:20180921T110026Z
UID:2571-1541446200-1541453400@waywiser-press.com
SUMMARY:US launch of Christopher Cessac's The Youngest Ocean at the Folger Shakespeare Library\, Washington\, D.C.
DESCRIPTION:Winner of the 13th Anthony Hecht Poetry Prize\, Christopher Cessac\, will be introduced by the judge who awarded the prize\, Sir Andrew Motion\, and the two poets will take it in turns to read from their work at the Folger Shakespeare Library in Washington\, D.C. The event will be introduced by Waywiser’s Editor in Chief\, Philip Hoy.
URL:https://waywiser-press.com/event/us-launch-of-christopher-cessacs-the-youngest-ocean-at-the-folger-shakespeare-library-washington-d-c/
LOCATION:Folger Shakespeare Library\, 201 East Capitol St. SE\, Washington\, DC\, 200003\, United States
CATEGORIES:Book Launch,Publications,Readings
END:VEVENT
BEGIN:VEVENT
DTSTART;VALUE=DATE:20170429
DTEND;VALUE=DATE:20170430
DTSTAMP:20260423T153154
CREATED:20170428T120221Z
LAST-MODIFIED:20170428T120221Z
UID:2119-1493424000-1493510399@waywiser-press.com
SUMMARY:Publication: The Trumpiad - Cody Walker
DESCRIPTION:The new U.S. president doesn’t read books\, but for everyone else\, there’s Cody Walker’s The Trumpiad\, a blistering and hilarious take on America’s political collapse. Key Difference: I wouldn’t lump / Trump / in with Hitler and Mussolini. / Trump’s hands are littler. (They’re teeny.) The Trumpiad will be published on April 29th 2017\, which will mark Trump’s 100th day in office. \n  \nAll proceeds will be donated to the ACLU.
URL:https://waywiser-press.com/event/publication-the-trumpiad-cody-walker/
LOCATION:DC
CATEGORIES:Publications
END:VEVENT
BEGIN:VEVENT
DTSTART;VALUE=DATE:20161015
DTEND;VALUE=DATE:20161016
DTSTAMP:20260423T153154
CREATED:20160714T130127Z
LAST-MODIFIED:20160913T140401Z
UID:1480-1476489600-1476575999@waywiser-press.com
SUMMARY:Publication: Stone Fruit - Stephen Yenser
DESCRIPTION:The locales in Stephen’s Yenser’s new volume are California\, Kansas\, and Greece\, where the titular fruits include respectively the date palm\, the blackberry\, and the olive. But the sculpted fruit on a grave marker qualifies as well\, along with the stone wall that is the yield of hard labor\, both of which also figure in this book. Words too may be fleshy and hard at once\, may be elegiac and memorial\, and may build a structure. To cultivate\, to commemorate\, and to construct are the poet’s objects\, each involved with the others.
URL:https://waywiser-press.com/event/publication-stone-fruit-stephen-yenser/
LOCATION:DC
CATEGORIES:Publications
END:VEVENT
BEGIN:VEVENT
DTSTART;VALUE=DATE:20161015
DTEND;VALUE=DATE:20161016
DTSTAMP:20260423T153154
CREATED:20160714T125741Z
LAST-MODIFIED:20160813T184200Z
UID:1479-1476489600-1476575999@waywiser-press.com
SUMMARY:Publication: Plundered Hearts: New and Selected Poems - J. D. McClatchy
DESCRIPTION:At last\, a definitive selection of the elegant work by a poet at the forefront of American poetry for more than three decades. With his first several books\, J. D. McClatchy established himself as a poet of urbanity\, intellect\, and prismatic emotion\, in the tradition of James Merrill\, W. H. Auden\, and Elizabeth Bishop––one who balances an exploration of the underworld of desire with a mastery of poetic form\, and whose artistry reveals the riches and ruins of our “plundered hearts.” Now\, opening with exquisite new poems––including the stunning “My Hand Collection\,” a catalogue of art objects that steals up on the complexity of human touch\, and a witty and profound poem entitled “My Robotic Prostatectomy”––this selection is a glorious full tour of McClatchy’s career. It includes excerpts from the powerful book-length sequence Ten Commandments (1998) and his more recent works Hazmat (2002) and Mercury Dressing (2009)—books that explored the body’s melodrama\, as well as the heart’s treacheries\, grievances\, and boundless capacities. All of his poems present a sumptuous weave of impassioned thought and clear-sighted feeling. He has been rightly hailed as a poet of “ferocious alertness\,” one who elicits (says The New Leader) “the kind of wonder and joy we experience when the curtain comes down on a dazzling performance.”
URL:https://waywiser-press.com/event/publication-plundered-hearts-new-and-selected-poems-j-d-mcclatchy/
LOCATION:DC
CATEGORIES:Publications
END:VEVENT
BEGIN:VEVENT
DTSTART;VALUE=DATE:20161015
DTEND;VALUE=DATE:20161016
DTSTAMP:20260423T153154
CREATED:20160714T125353Z
LAST-MODIFIED:20160913T140226Z
UID:1478-1476489600-1476575999@waywiser-press.com
SUMMARY:Publication: Pleasures of the Game - Austin Allen
DESCRIPTION:Winner of the 11th annual Anthony Hecht Poetry Prize\nForeword by the judge\, Eavan Boland \nPleasures of the Game\, the latest winner of the prestigious annual Anthony Hecht Poetry Prize\, is a book of deceptively playful poems\, of sparkling surfaces that conceal dark undercurrents. Its subjects include games of all kinds: from schoolyard Double Dutch to the chess match of love\, from painters’ illusions to professional ice hockey\, from the stratagems of spies to the life-and-death game we play against the universe.
URL:https://waywiser-press.com/event/publication-pleasures-of-the-game-austin-allen/
LOCATION:DC
CATEGORIES:Publications
END:VEVENT
END:VCALENDAR