BEGIN:VCALENDAR
VERSION:2.0
PRODID:-//The Waywiser Press - ECPv6.15.20//NONSGML v1.0//EN
CALSCALE:GREGORIAN
METHOD:PUBLISH
X-WR-CALNAME:The Waywiser Press
X-ORIGINAL-URL:https://waywiser-press.com
X-WR-CALDESC:Events for The Waywiser Press
REFRESH-INTERVAL;VALUE=DURATION:PT1H
X-Robots-Tag:noindex
X-PUBLISHED-TTL:PT1H
BEGIN:VTIMEZONE
TZID:America/New_York
BEGIN:DAYLIGHT
TZOFFSETFROM:-0500
TZOFFSETTO:-0400
TZNAME:EDT
DTSTART:20200308T070000
END:DAYLIGHT
BEGIN:STANDARD
TZOFFSETFROM:-0400
TZOFFSETTO:-0500
TZNAME:EST
DTSTART:20201101T060000
END:STANDARD
BEGIN:DAYLIGHT
TZOFFSETFROM:-0500
TZOFFSETTO:-0400
TZNAME:EDT
DTSTART:20210314T070000
END:DAYLIGHT
BEGIN:STANDARD
TZOFFSETFROM:-0400
TZOFFSETTO:-0500
TZNAME:EST
DTSTART:20211107T060000
END:STANDARD
BEGIN:DAYLIGHT
TZOFFSETFROM:-0500
TZOFFSETTO:-0400
TZNAME:EDT
DTSTART:20220313T070000
END:DAYLIGHT
BEGIN:STANDARD
TZOFFSETFROM:-0400
TZOFFSETTO:-0500
TZNAME:EST
DTSTART:20221106T060000
END:STANDARD
END:VTIMEZONE
BEGIN:VEVENT
DTSTART;TZID=America/New_York:20210814T160000
DTEND;TZID=America/New_York:20210814T170000
DTSTAMP:20260421T103826
CREATED:20210808T151650Z
LAST-MODIFIED:20210808T151743Z
UID:4455-1628956800-1628960400@waywiser-press.com
SUMMARY:John Rosenthal will read from his new book\, Searching for Amylu Danzer\, and will talk about it with acclaimed poet and essayist Alan Shapiro
DESCRIPTION:Photographer and writer John Rosenthal will read from his new book\,  Searching for Amylu Danzer\,  and will talk about it with acclaimed poet and essayist Alan Shapiro\, author most recently of Against Translation and Reel to Reel. \nBooks will be for sale\, and John will sign them after the reading. \nStick around for conversations and to make new friends. \nTickets cost $6.00 and seats can be reserved in advance at https://checkout.square.site/merchant/QDEG6VP4GZMQ6/checkout/SWATUX4EOTTSKGQTGCQFBKAT
URL:https://waywiser-press.com/event/john-rosenthal-will-read-from-his-new-book-searching-for-amylu-danzer-and-will-talk-about-it-with-acclaimed-poet-and-essayist-alan-shapiro/
LOCATION:PS118 Gallery\, 118 West Parrish Street\, Durham\, NC\, 27701\, United States
CATEGORIES:Readings
ATTACH;FMTTYPE=image/jpeg:https://waywiser-press.com/waywiser/wp-content/uploads/rosenthal_front_jacket.jpg
END:VEVENT
END:VCALENDAR