BEGIN:VCALENDAR
VERSION:2.0
PRODID:-//The Waywiser Press - ECPv6.15.20//NONSGML v1.0//EN
CALSCALE:GREGORIAN
METHOD:PUBLISH
X-WR-CALNAME:The Waywiser Press
X-ORIGINAL-URL:https://waywiser-press.com
X-WR-CALDESC:Events for The Waywiser Press
REFRESH-INTERVAL;VALUE=DURATION:PT1H
X-Robots-Tag:noindex
X-PUBLISHED-TTL:PT1H
BEGIN:VTIMEZONE
TZID:America/New_York
BEGIN:DAYLIGHT
TZOFFSETFROM:-0500
TZOFFSETTO:-0400
TZNAME:EDT
DTSTART:20190310T070000
END:DAYLIGHT
BEGIN:STANDARD
TZOFFSETFROM:-0400
TZOFFSETTO:-0500
TZNAME:EST
DTSTART:20191103T060000
END:STANDARD
BEGIN:DAYLIGHT
TZOFFSETFROM:-0500
TZOFFSETTO:-0400
TZNAME:EDT
DTSTART:20200308T070000
END:DAYLIGHT
BEGIN:STANDARD
TZOFFSETFROM:-0400
TZOFFSETTO:-0500
TZNAME:EST
DTSTART:20201101T060000
END:STANDARD
BEGIN:DAYLIGHT
TZOFFSETFROM:-0500
TZOFFSETTO:-0400
TZNAME:EDT
DTSTART:20210314T070000
END:DAYLIGHT
BEGIN:STANDARD
TZOFFSETFROM:-0400
TZOFFSETTO:-0500
TZNAME:EST
DTSTART:20211107T060000
END:STANDARD
END:VTIMEZONE
BEGIN:VEVENT
DTSTART;TZID=America/New_York:20200604T193000
DTEND;TZID=America/New_York:20200604T203000
DTSTAMP:20260424T123729
CREATED:20200529T091244Z
LAST-MODIFIED:20200529T091244Z
UID:3627-1591299000-1591302600@waywiser-press.com
SUMMARY:Morri Creech and Joseph Harrison will be reading their poems on ZOOM
DESCRIPTION:Please sit in on a reading by two of Waywiser’s most distinguished poets – Morri Creech (author\, most recently\, of Blue Rooms) and Joseph Harrison (author\, most recently\, of Sometimes I Dream That I Am Not Walt Whitman). The reading will be held on ZOOM\, and there is room for an audience of up to 100. We hope to see you there.
URL:https://waywiser-press.com/event/morri-creech-and-joseph-harrison-will-be-reading-their-poems-on-zoom/
LOCATION:ZOOM
CATEGORIES:Readings
ORGANIZER;CN="The Waywiser Press":MAILTO:info@waywiser-press.com
END:VEVENT
END:VCALENDAR