BEGIN:VCALENDAR
VERSION:2.0
PRODID:-//The Waywiser Press - ECPv6.15.20//NONSGML v1.0//EN
CALSCALE:GREGORIAN
METHOD:PUBLISH
X-WR-CALNAME:The Waywiser Press
X-ORIGINAL-URL:https://waywiser-press.com
X-WR-CALDESC:Events for The Waywiser Press
REFRESH-INTERVAL;VALUE=DURATION:PT1H
X-Robots-Tag:noindex
X-PUBLISHED-TTL:PT1H
BEGIN:VTIMEZONE
TZID:America/Denver
BEGIN:DAYLIGHT
TZOFFSETFROM:-0700
TZOFFSETTO:-0600
TZNAME:MDT
DTSTART:20170312T090000
END:DAYLIGHT
BEGIN:STANDARD
TZOFFSETFROM:-0600
TZOFFSETTO:-0700
TZNAME:MST
DTSTART:20171105T080000
END:STANDARD
BEGIN:DAYLIGHT
TZOFFSETFROM:-0700
TZOFFSETTO:-0600
TZNAME:MDT
DTSTART:20180311T090000
END:DAYLIGHT
BEGIN:STANDARD
TZOFFSETFROM:-0600
TZOFFSETTO:-0700
TZNAME:MST
DTSTART:20181104T080000
END:STANDARD
BEGIN:DAYLIGHT
TZOFFSETFROM:-0700
TZOFFSETTO:-0600
TZNAME:MDT
DTSTART:20190310T090000
END:DAYLIGHT
BEGIN:STANDARD
TZOFFSETFROM:-0600
TZOFFSETTO:-0700
TZNAME:MST
DTSTART:20191103T080000
END:STANDARD
END:VTIMEZONE
BEGIN:VTIMEZONE
TZID:America/New_York
BEGIN:DAYLIGHT
TZOFFSETFROM:-0500
TZOFFSETTO:-0400
TZNAME:EDT
DTSTART:20150308T070000
END:DAYLIGHT
BEGIN:STANDARD
TZOFFSETFROM:-0400
TZOFFSETTO:-0500
TZNAME:EST
DTSTART:20151101T060000
END:STANDARD
BEGIN:DAYLIGHT
TZOFFSETFROM:-0500
TZOFFSETTO:-0400
TZNAME:EDT
DTSTART:20160313T070000
END:DAYLIGHT
BEGIN:STANDARD
TZOFFSETFROM:-0400
TZOFFSETTO:-0500
TZNAME:EST
DTSTART:20161106T060000
END:STANDARD
BEGIN:DAYLIGHT
TZOFFSETFROM:-0500
TZOFFSETTO:-0400
TZNAME:EDT
DTSTART:20170312T070000
END:DAYLIGHT
BEGIN:STANDARD
TZOFFSETFROM:-0400
TZOFFSETTO:-0500
TZNAME:EST
DTSTART:20171105T060000
END:STANDARD
BEGIN:DAYLIGHT
TZOFFSETFROM:-0500
TZOFFSETTO:-0400
TZNAME:EDT
DTSTART:20180311T070000
END:DAYLIGHT
BEGIN:STANDARD
TZOFFSETFROM:-0400
TZOFFSETTO:-0500
TZNAME:EST
DTSTART:20181104T060000
END:STANDARD
END:VTIMEZONE
BEGIN:VTIMEZONE
TZID:America/Los_Angeles
BEGIN:DAYLIGHT
TZOFFSETFROM:-0800
TZOFFSETTO:-0700
TZNAME:PDT
DTSTART:20150308T100000
END:DAYLIGHT
BEGIN:STANDARD
TZOFFSETFROM:-0700
TZOFFSETTO:-0800
TZNAME:PST
DTSTART:20151101T090000
END:STANDARD
BEGIN:DAYLIGHT
TZOFFSETFROM:-0800
TZOFFSETTO:-0700
TZNAME:PDT
DTSTART:20160313T100000
END:DAYLIGHT
BEGIN:STANDARD
TZOFFSETFROM:-0700
TZOFFSETTO:-0800
TZNAME:PST
DTSTART:20161106T090000
END:STANDARD
BEGIN:DAYLIGHT
TZOFFSETFROM:-0800
TZOFFSETTO:-0700
TZNAME:PDT
DTSTART:20170312T100000
END:DAYLIGHT
BEGIN:STANDARD
TZOFFSETFROM:-0700
TZOFFSETTO:-0800
TZNAME:PST
DTSTART:20171105T090000
END:STANDARD
END:VTIMEZONE
BEGIN:VTIMEZONE
TZID:America/Chicago
BEGIN:DAYLIGHT
TZOFFSETFROM:-0600
TZOFFSETTO:-0500
TZNAME:CDT
DTSTART:20150308T080000
END:DAYLIGHT
BEGIN:STANDARD
TZOFFSETFROM:-0500
TZOFFSETTO:-0600
TZNAME:CST
DTSTART:20151101T070000
END:STANDARD
BEGIN:DAYLIGHT
TZOFFSETFROM:-0600
TZOFFSETTO:-0500
TZNAME:CDT
DTSTART:20160313T080000
END:DAYLIGHT
BEGIN:STANDARD
TZOFFSETFROM:-0500
TZOFFSETTO:-0600
TZNAME:CST
DTSTART:20161106T070000
END:STANDARD
BEGIN:DAYLIGHT
TZOFFSETFROM:-0600
TZOFFSETTO:-0500
TZNAME:CDT
DTSTART:20170312T080000
END:DAYLIGHT
BEGIN:STANDARD
TZOFFSETFROM:-0500
TZOFFSETTO:-0600
TZNAME:CST
DTSTART:20171105T070000
END:STANDARD
END:VTIMEZONE
BEGIN:VTIMEZONE
TZID:America/Indiana/Knox
BEGIN:DAYLIGHT
TZOFFSETFROM:-0600
TZOFFSETTO:-0500
TZNAME:CDT
DTSTART:20150308T080000
END:DAYLIGHT
BEGIN:STANDARD
TZOFFSETFROM:-0500
TZOFFSETTO:-0600
TZNAME:CST
DTSTART:20151101T070000
END:STANDARD
BEGIN:DAYLIGHT
TZOFFSETFROM:-0600
TZOFFSETTO:-0500
TZNAME:CDT
DTSTART:20160313T080000
END:DAYLIGHT
BEGIN:STANDARD
TZOFFSETFROM:-0500
TZOFFSETTO:-0600
TZNAME:CST
DTSTART:20161106T070000
END:STANDARD
BEGIN:DAYLIGHT
TZOFFSETFROM:-0600
TZOFFSETTO:-0500
TZNAME:CDT
DTSTART:20170312T080000
END:DAYLIGHT
BEGIN:STANDARD
TZOFFSETFROM:-0500
TZOFFSETTO:-0600
TZNAME:CST
DTSTART:20171105T070000
END:STANDARD
END:VTIMEZONE
BEGIN:VEVENT
DTSTART;TZID=America/Denver:20181017T190000
DTEND;TZID=America/Denver:20181017T200000
DTSTAMP:20260425T015800
CREATED:20180923T143315Z
LAST-MODIFIED:20180923T143315Z
UID:2592-1539802800-1539806400@waywiser-press.com
SUMMARY:Mike White will read from Addendum to a Miracle
DESCRIPTION:Mike White will read from Addendum to a Miracle\, which won the twelfth Anthony Hecht Poetry Prize\, and was a runner-up for the 15 Bytes Book Award for Poetry.
URL:https://waywiser-press.com/event/mike-white-will-read-from-addendum-to-a-miracle/
LOCATION:The Printed Garden\, 9445 S Union Sq\, Ste A\,\, Sandy\, UT\, 84070\, United States
CATEGORIES:Readings
END:VEVENT
BEGIN:VEVENT
DTSTART;TZID=America/New_York:20170506T140000
DTEND;TZID=America/New_York:20170506T150000
DTSTAMP:20260425T015800
CREATED:20170426T143114Z
LAST-MODIFIED:20170426T143803Z
UID:2081-1494079200-1494082800@waywiser-press.com
SUMMARY:Joseph Harrison will read at the FlowerMart Festival\, Baltimore
DESCRIPTION:Joseph Harrison\, author of Someone Else’s Name\, Identity Theft\, and Shakespeare’s Horse\, will read from his work. Reading with him will be former Poet Laureate of the UK\, Andrew Motion\, whose most recent collection is Peace Talks\, and Abdul Ali\, whose most recent collection is Trouble Sleeping.
URL:https://waywiser-press.com/event/joseph-harrison-will-read-at-the-flowermart-festival-baltimore/
LOCATION:The Peabody Institute\, 1 East Mount Vernon Place\, Baltimore\, MD\, MD21206\, United States
CATEGORIES:Readings
END:VEVENT
BEGIN:VEVENT
DTSTART;TZID=America/Los_Angeles:20161117T193000
DTEND;TZID=America/Los_Angeles:20161117T203000
DTSTAMP:20260425T015800
CREATED:20160909T145255Z
LAST-MODIFIED:20160909T145255Z
UID:1796-1479411000-1479414600@waywiser-press.com
SUMMARY:Stephen Yenser will read from his new collection of poems\, Stone Fruit
DESCRIPTION:Stephen Yenser will read from his new collection of poems\, Stone Fruit.
URL:https://waywiser-press.com/event/stephen-yenser-will-read-from-his-new-collection-of-poems-stone-fruit/
LOCATION:Hammer Museum\, 10899 Wilshire Boulevard\, Los Angeles\, CA\, CA 90024\, United States
CATEGORIES:Readings
END:VEVENT
BEGIN:VEVENT
DTSTART;TZID=America/New_York:20161025T190000
DTEND;TZID=America/New_York:20161025T210000
DTSTAMP:20260425T015800
CREATED:20160808T180726Z
LAST-MODIFIED:20161014T133340Z
UID:1620-1477422000-1477429200@waywiser-press.com
SUMMARY:Reading: Austin Allen will read with Cody Walker and Greg Williamson
DESCRIPTION:Austin Allen (author of Pleasures of the Game (winner of the 11th Anthony Hecht Poetry Prize)) will read with Cody Walker (author of The Self-Styled No-Child and Shuffle and Breakdown) and Greg Williamson (author of The Hole Story of Kirby the Sneak and Arlo the True\, A Most Marvelous Piece of Luck\, Errors in the Script\, and The Silent Partner) \nPlease note that there has been a change of venue. This event will now take place at the Ivy Bookshop\, not\, as previously announced\, at the Bird in Hand
URL:https://waywiser-press.com/event/reading-austin-allen-will-read-with-cody-walker-and-greg-williamson/
LOCATION:The Ivy Bookshop\, 6080 Falls Road\, Baltimore\, MD\, 21209\, United States
CATEGORIES:Readings
END:VEVENT
BEGIN:VEVENT
DTSTART;TZID=America/New_York:20161024T193000
DTEND;TZID=America/New_York:20161024T213000
DTSTAMP:20260425T015800
CREATED:20160802T132946Z
LAST-MODIFIED:20160813T184129Z
UID:1610-1477337400-1477344600@waywiser-press.com
SUMMARY:US Launch of Austin Allen's Pleasures of the Game at the Folger Shakespeare Library\, Washington\, DC
DESCRIPTION:Winner of the 11th Anthony Hecht Poetry Prize\, Austin Allen will be introduced by the judge who awarded the prize\, Eavan Boland\, and the two poets will take it in turns to read from their work at the Folger Shakespeare Library in Washington\, DC. The event will be introduced by Waywiser’s Editor-in-Chief\, Philip Hoy.\nPlease click link for further information and to purchase tickets.
URL:https://waywiser-press.com/event/us-launch-of-austin-allens-pleasures-of-the-game/
LOCATION:Folger Shakespeare Library\, 201 East Capitol St. SE\, Washington\, DC\, 200003\, United States
CATEGORIES:Book Launch,Readings
END:VEVENT
BEGIN:VEVENT
DTSTART;TZID=America/Los_Angeles:20161009T170000
DTEND;TZID=America/Los_Angeles:20161009T180000
DTSTAMP:20260425T015800
CREATED:20160909T144323Z
LAST-MODIFIED:20160909T144323Z
UID:1791-1476032400-1476036000@waywiser-press.com
SUMMARY:Stephen Yenser will read from Stone Fruit
DESCRIPTION:Stephen Yenser will read from his new poetry collection\, Stone Fruit.
URL:https://waywiser-press.com/event/stephen-yenser-will-read-from-stone-fruit/
LOCATION:Craft and Folk Art Museum\, 5814 Wilshire Boulevard\, Los Angeles\, CA\, CA 90036\, United States
CATEGORIES:Readings
ORGANIZER;CN="Gabriel Meyer%2C President%2C Ruskin Art Club%2C and Suzanne Isken%2C Exec. Dir%2C CAFAM":MAILTO:grmncr@aol.com
END:VEVENT
BEGIN:VEVENT
DTSTART;TZID=America/Los_Angeles:20160916T190000
DTEND;TZID=America/Los_Angeles:20160916T210000
DTSTAMP:20260425T015800
CREATED:20160909T143203Z
LAST-MODIFIED:20160909T143203Z
UID:1783-1474052400-1474059600@waywiser-press.com
SUMMARY:Reading: Private dinner with a reading by Stephen Yenser
DESCRIPTION:Stephen Yenser will give a private reading from his latest poetry collection\, Stone Fruit.
URL:https://waywiser-press.com/event/reading-private-dinner-with-a-reading-by-stephen-yenser/
LOCATION:Katie McGrath and Helen Bartlett\, Pacific Palisades\, CA\, United States
CATEGORIES:Readings
END:VEVENT
BEGIN:VEVENT
DTSTART;TZID=America/Chicago:20160916T190000
DTEND;TZID=America/Chicago:20160916T200000
DTSTAMP:20260425T015800
CREATED:20160711T143044Z
LAST-MODIFIED:20160813T184259Z
UID:1447-1474052400-1474056000@waywiser-press.com
SUMMARY:Reading: Eric McHenry with William Trowbridge and Erik Campbell
DESCRIPTION:Waywiser poet Eric McHenry will read with William Trowbridge and Erik Campbell\nThe Writers Place Reading Series
URL:https://waywiser-press.com/event/reading-eric-mchenry-with-william-trowbridge-and-erik-campbell/
LOCATION:The Writers Place\, 3607 Pennsylvania Ave.\, Kansas City\, MO\, 64111\, United States
CATEGORIES:Readings
END:VEVENT
BEGIN:VEVENT
DTSTART;TZID=America/Indiana/Knox:20160914T160000
DTEND;TZID=America/Indiana/Knox:20160914T170000
DTSTAMP:20260425T015800
CREATED:20160808T175504Z
LAST-MODIFIED:20160813T184330Z
UID:1618-1473868800-1473872400@waywiser-press.com
SUMMARY:Reading: Joseph Harrison will read at the University of Evansville\, Indiana
DESCRIPTION:Joseph Harrison\, author of Shakespeare’s Horse\, Identity Theft and Someone Else’s Name\, will read at the University of Evansville\, Indiana.
URL:https://waywiser-press.com/event/reading-joseph-harrison-will-read-at-the-university-of-evansville-indiana/
LOCATION:Melvin Petersen Gallery\, University of Evansville\, 1800 Lincoln Ave.\, Evansville\, IN\, 47722\, United States
CATEGORIES:Readings
END:VEVENT
BEGIN:VEVENT
DTSTART;TZID=America/New_York:20160725T154500
DTEND;TZID=America/New_York:20160725T170000
DTSTAMP:20260425T015800
CREATED:20160711T140739Z
LAST-MODIFIED:20160813T184407Z
UID:1443-1469461500-1469466000@waywiser-press.com
SUMMARY:Reading: Eric McHenry and Maggie Dietz
DESCRIPTION:Waywiser poet Eric McHenry will read with Maggie Dietz.\nFaculty Reading\, Favorite Poem Project Summer Institute.
URL:https://waywiser-press.com/event/reading-eric-mchenry-and-maggie-dietz/
LOCATION:Sargent College\, Room 101\, 635 Commonwealth Ave.\, Boston\, MA\, 02215\, United States
CATEGORIES:Readings
END:VEVENT
END:VCALENDAR